BEGIN:VCALENDAR
VERSION:2.0
PRODID:-//IIA - ECPv5.8.0//NONSGML v1.0//EN
CALSCALE:GREGORIAN
METHOD:PUBLISH
X-WR-CALNAME:IIA
X-ORIGINAL-URL:http://intmntclub.org
X-WR-CALDESC:Events for IIA
BEGIN:VTIMEZONE
TZID:America/Denver
BEGIN:DAYLIGHT
TZOFFSETFROM:-0700
TZOFFSETTO:-0600
TZNAME:MDT
DTSTART:20140309T090000
END:DAYLIGHT
BEGIN:STANDARD
TZOFFSETFROM:-0600
TZOFFSETTO:-0700
TZNAME:MST
DTSTART:20141102T080000
END:STANDARD
END:VTIMEZONE
BEGIN:VEVENT
DTSTART;VALUE=DATE:20141109
DTEND;VALUE=DATE:20141110
DTSTAMP:20260421T224630
CREATED:20141009T040415Z
LAST-MODIFIED:20141009T045255Z
UID:103-1415491200-1415577599@intmntclub.org
SUMMARY:2014 Wasatch FSC Test Session
DESCRIPTION:
URL:http://intmntclub.org/event/2014-wasatch-test-session/
LOCATION:Weber County Ice Sheet (Ogden)\, 4390 Harrison Blvd\, Ogden\, UT\, 84403
CATEGORIES:test session
END:VEVENT
END:VCALENDAR