BEGIN:VCALENDAR
VERSION:2.0
PRODID:-//IIA - ECPv5.8.0//NONSGML v1.0//EN
CALSCALE:GREGORIAN
METHOD:PUBLISH
X-WR-CALNAME:IIA
X-ORIGINAL-URL:http://intmntclub.org
X-WR-CALDESC:Events for IIA
BEGIN:VTIMEZONE
TZID:America/Denver
BEGIN:DAYLIGHT
TZOFFSETFROM:-0700
TZOFFSETTO:-0600
TZNAME:MDT
DTSTART:20160313T090000
END:DAYLIGHT
BEGIN:STANDARD
TZOFFSETFROM:-0600
TZOFFSETTO:-0700
TZNAME:MST
DTSTART:20161106T080000
END:STANDARD
END:VTIMEZONE
BEGIN:VEVENT
DTSTART;VALUE=DATE:20161023
DTEND;VALUE=DATE:20161024
DTSTAMP:20260422T013011
CREATED:20160812T051118Z
LAST-MODIFIED:20160812T051118Z
UID:873-1477180800-1477267199@intmntclub.org
SUMMARY:2016 FSCPC Test Session
DESCRIPTION:
URL:http://intmntclub.org/event/2016-fscpc-test-session/
LOCATION:Park City Ice Arena\, 600 Gillmore Way\, Park City\, UT\, 84060
CATEGORIES:test session
END:VEVENT
END:VCALENDAR