BEGIN:VCALENDAR
VERSION:2.0
PRODID:-//IIA - ECPv5.8.0//NONSGML v1.0//EN
CALSCALE:GREGORIAN
METHOD:PUBLISH
X-WR-CALNAME:IIA
X-ORIGINAL-URL:http://intmntclub.org
X-WR-CALDESC:Events for IIA
BEGIN:VTIMEZONE
TZID:America/Denver
BEGIN:DAYLIGHT
TZOFFSETFROM:-0700
TZOFFSETTO:-0600
TZNAME:MDT
DTSTART:20160313T090000
END:DAYLIGHT
BEGIN:STANDARD
TZOFFSETFROM:-0600
TZOFFSETTO:-0700
TZNAME:MST
DTSTART:20161106T080000
END:STANDARD
END:VTIMEZONE
BEGIN:VEVENT
DTSTART;VALUE=DATE:20161005
DTEND;VALUE=DATE:20161010
DTSTAMP:20260422T050114
CREATED:20151113T153017Z
LAST-MODIFIED:20151116T211148Z
UID:657-1475625600-1476057599@intmntclub.org
SUMMARY:2017 Central Pacific Regionals
DESCRIPTION:
URL:http://intmntclub.org/event/2017-central-pacific-regionals/
LOCATION:Weber County Ice Sheet (Ogden)\, 4390 Harrison Blvd\, Ogden\, UT\, 84403
CATEGORIES:competition
END:VEVENT
END:VCALENDAR