BEGIN:VCALENDAR
VERSION:2.0
PRODID:-//IIA - ECPv5.8.0//NONSGML v1.0//EN
CALSCALE:GREGORIAN
METHOD:PUBLISH
X-WR-CALNAME:IIA
X-ORIGINAL-URL:http://intmntclub.org
X-WR-CALDESC:Events for IIA
BEGIN:VTIMEZONE
TZID:America/Denver
BEGIN:DAYLIGHT
TZOFFSETFROM:-0700
TZOFFSETTO:-0600
TZNAME:MDT
DTSTART:20170312T090000
END:DAYLIGHT
BEGIN:STANDARD
TZOFFSETFROM:-0600
TZOFFSETTO:-0700
TZNAME:MST
DTSTART:20171105T080000
END:STANDARD
END:VTIMEZONE
BEGIN:VEVENT
DTSTART;TZID=America/Denver:20170516T171500
DTEND;TZID=America/Denver:20170516T184500
DTSTAMP:20260422T074044
CREATED:20170210T164920Z
LAST-MODIFIED:20170210T164920Z
UID:1170-1494954900-1494960300@intmntclub.org
SUMMARY:2017 Murray Silver Blades Test Session-Low Levels
DESCRIPTION:
URL:http://intmntclub.org/event/2017-murray-silver-blades-test-session-low-levels/
LOCATION:County Ice Center (Murray)\, 5201 South Murray Park Lane (150 E)\, Murray\, UT\, 84107
CATEGORIES:test session
END:VEVENT
END:VCALENDAR