BEGIN:VCALENDAR
VERSION:2.0
PRODID:-//IIA - ECPv5.8.0//NONSGML v1.0//EN
CALSCALE:GREGORIAN
METHOD:PUBLISH
X-WR-CALNAME:IIA
X-ORIGINAL-URL:http://intmntclub.org
X-WR-CALDESC:Events for IIA
BEGIN:VTIMEZONE
TZID:America/Denver
BEGIN:DAYLIGHT
TZOFFSETFROM:-0700
TZOFFSETTO:-0600
TZNAME:MDT
DTSTART:20180311T090000
END:DAYLIGHT
BEGIN:STANDARD
TZOFFSETFROM:-0600
TZOFFSETTO:-0700
TZNAME:MST
DTSTART:20181104T080000
END:STANDARD
END:VTIMEZONE
BEGIN:VEVENT
DTSTART;VALUE=DATE:20180421
DTEND;VALUE=DATE:20180422
DTSTAMP:20260422T032416
CREATED:20160923T212655Z
LAST-MODIFIED:20160923T212655Z
UID:920-1524268800-1524355199@intmntclub.org
SUMMARY:2018 Peaks FSC Test Session
DESCRIPTION:
URL:http://intmntclub.org/event/2018-peaks-fsc-test-session/
LOCATION:Peaks Ice Arena (Provo)\, 100 N Seven Peaks Blvd\, Provo\, UT\, 84606
CATEGORIES:test session
END:VEVENT
END:VCALENDAR