BEGIN:VCALENDAR
VERSION:2.0
PRODID:-//IIA - ECPv5.8.0//NONSGML v1.0//EN
CALSCALE:GREGORIAN
METHOD:PUBLISH
X-WR-CALNAME:IIA
X-ORIGINAL-URL:http://intmntclub.org
X-WR-CALDESC:Events for IIA
BEGIN:VTIMEZONE
TZID:America/Boise
BEGIN:DAYLIGHT
TZOFFSETFROM:-0700
TZOFFSETTO:-0600
TZNAME:MDT
DTSTART:20190310T090000
END:DAYLIGHT
BEGIN:STANDARD
TZOFFSETFROM:-0600
TZOFFSETTO:-0700
TZNAME:MST
DTSTART:20191103T080000
END:STANDARD
END:VTIMEZONE
BEGIN:VEVENT
DTSTART;VALUE=DATE:20191112
DTEND;VALUE=DATE:20191117
DTSTAMP:20260421T040951
CREATED:20190111T224404Z
LAST-MODIFIED:20190111T224404Z
UID:1674-1573516800-1573948799@intmntclub.org
SUMMARY:2020 Pacific Coast Sectional Series Final
DESCRIPTION:
URL:http://intmntclub.org/event/2020-pacific-coast-sectional-series-final/
CATEGORIES:competition
END:VEVENT
END:VCALENDAR