BEGIN:VCALENDAR
VERSION:2.0
PRODID:-//IIA - ECPv5.8.0//NONSGML v1.0//EN
CALSCALE:GREGORIAN
METHOD:PUBLISH
X-WR-CALNAME:IIA
X-ORIGINAL-URL:http://intmntclub.org
X-WR-CALDESC:Events for IIA
BEGIN:VTIMEZONE
TZID:America/Denver
BEGIN:DAYLIGHT
TZOFFSETFROM:-0700
TZOFFSETTO:-0600
TZNAME:MDT
DTSTART:20150308T090000
END:DAYLIGHT
BEGIN:STANDARD
TZOFFSETFROM:-0600
TZOFFSETTO:-0700
TZNAME:MST
DTSTART:20151101T080000
END:STANDARD
END:VTIMEZONE
BEGIN:VEVENT
DTSTART;TZID=America/Denver:20150107T183000
DTEND;TZID=America/Denver:20150107T193000
DTSTAMP:20260422T031331
CREATED:20141231T081255Z
LAST-MODIFIED:20160115T204354Z
UID:356-1420655400-1420659000@intmntclub.org
SUMMARY:Board Meeting
DESCRIPTION:
URL:http://intmntclub.org/event/board-meeting-012015/
LOCATION:County Ice Center (Murray)\, 5201 South Murray Park Lane (150 E)\, Murray\, UT\, 84107
CATEGORIES:meeting
END:VEVENT
END:VCALENDAR