BEGIN:VCALENDAR
VERSION:2.0
PRODID:-//IIA - ECPv5.8.0//NONSGML v1.0//EN
CALSCALE:GREGORIAN
METHOD:PUBLISH
X-WR-CALNAME:IIA
X-ORIGINAL-URL:http://intmntclub.org
X-WR-CALDESC:Events for IIA
BEGIN:VTIMEZONE
TZID:America/Denver
BEGIN:DAYLIGHT
TZOFFSETFROM:-0700
TZOFFSETTO:-0600
TZNAME:MDT
DTSTART:20150308T090000
END:DAYLIGHT
BEGIN:STANDARD
TZOFFSETFROM:-0600
TZOFFSETTO:-0700
TZNAME:MST
DTSTART:20151101T080000
END:STANDARD
END:VTIMEZONE
BEGIN:VEVENT
DTSTART;TZID=America/Denver:20150304T183000
DTEND;TZID=America/Denver:20150304T193000
DTSTAMP:20260422T003311
CREATED:20141231T081625Z
LAST-MODIFIED:20160115T204411Z
UID:357-1425493800-1425497400@intmntclub.org
SUMMARY:Board Meeting
DESCRIPTION:
URL:http://intmntclub.org/event/board-meeting-032015/
LOCATION:County Ice Center (Murray)\, 5201 South Murray Park Lane (150 E)\, Murray\, UT\, 84107
CATEGORIES:meeting
END:VEVENT
END:VCALENDAR