BEGIN:VCALENDAR
VERSION:2.0
PRODID:-//IIA - ECPv5.8.0//NONSGML v1.0//EN
CALSCALE:GREGORIAN
METHOD:PUBLISH
X-WR-CALNAME:IIA
X-ORIGINAL-URL:http://intmntclub.org
X-WR-CALDESC:Events for IIA
BEGIN:VTIMEZONE
TZID:America/Boise
BEGIN:DAYLIGHT
TZOFFSETFROM:-0700
TZOFFSETTO:-0600
TZNAME:MDT
DTSTART:20250309T090000
END:DAYLIGHT
BEGIN:STANDARD
TZOFFSETFROM:-0600
TZOFFSETTO:-0700
TZNAME:MST
DTSTART:20251102T080000
END:STANDARD
END:VTIMEZONE
BEGIN:VEVENT
DTSTART;VALUE=DATE:20250131
DTEND;VALUE=DATE:20250202
DTSTAMP:20260425T074254
CREATED:20240614T031325Z
LAST-MODIFIED:20240614T031343Z
UID:2624-1738281600-1738454399@intmntclub.org
SUMMARY:Cache Valley FSC test session & exhibtion
DESCRIPTION:
URL:http://intmntclub.org/event/cache-valley-fsc-test-session-exhibtion/
LOCATION:George S. Eccles Ice Center (N. Logan)\, 2825 North 200 East\, North Logan\, UT\, 84335
CATEGORIES:test session
END:VEVENT
END:VCALENDAR