BEGIN:VCALENDAR
VERSION:2.0
PRODID:-//IIA - ECPv5.8.0//NONSGML v1.0//EN
CALSCALE:GREGORIAN
METHOD:PUBLISH
X-WR-CALNAME:IIA
X-ORIGINAL-URL:http://intmntclub.org
X-WR-CALDESC:Events for IIA
BEGIN:VTIMEZONE
TZID:America/Boise
BEGIN:DAYLIGHT
TZOFFSETFROM:-0700
TZOFFSETTO:-0600
TZNAME:MDT
DTSTART:20180311T090000
END:DAYLIGHT
BEGIN:STANDARD
TZOFFSETFROM:-0600
TZOFFSETTO:-0700
TZNAME:MST
DTSTART:20181104T080000
END:STANDARD
END:VTIMEZONE
BEGIN:VEVENT
DTSTART;TZID=America/Boise:20180427T193000
DTEND;TZID=America/Boise:20180428T213000
DTSTAMP:20260422T082627
CREATED:20171206T180155Z
LAST-MODIFIED:20171206T180155Z
UID:1376-1524857400-1524951000@intmntclub.org
SUMMARY:Cache Valley Spring Show
DESCRIPTION:
URL:http://intmntclub.org/event/cache-valley-spring-show-2/
LOCATION:George S. Eccles Ice Center (N. Logan)\, 2825 North 200 East\, North Logan\, UT\, 84335
END:VEVENT
END:VCALENDAR