BEGIN:VCALENDAR
VERSION:2.0
PRODID:-//IIA - ECPv5.8.0//NONSGML v1.0//EN
CALSCALE:GREGORIAN
METHOD:PUBLISH
X-WR-CALNAME:IIA
X-ORIGINAL-URL:http://intmntclub.org
X-WR-CALDESC:Events for IIA
BEGIN:VTIMEZONE
TZID:America/Denver
BEGIN:DAYLIGHT
TZOFFSETFROM:-0700
TZOFFSETTO:-0600
TZNAME:MDT
DTSTART:20150308T090000
END:DAYLIGHT
BEGIN:STANDARD
TZOFFSETFROM:-0600
TZOFFSETTO:-0700
TZNAME:MST
DTSTART:20151101T080000
END:STANDARD
END:VTIMEZONE
BEGIN:VEVENT
DTSTART;VALUE=DATE:20151211
DTEND;VALUE=DATE:20151214
DTSTAMP:20260422T012313
CREATED:20150102T174622Z
LAST-MODIFIED:20150428T031237Z
UID:412-1449792000-1450051199@intmntclub.org
SUMMARY:CHFSC Test Session
DESCRIPTION:Registration Open: October 31\, 2015 @ 8:00 a.m. \nRegistration Deadline: November 21\, 2015 @ 8:00 a.m.
URL:http://intmntclub.org/event/chfsc-test-session/
LOCATION:Cottonwood Heights Ice Arena\, 7500 S 2700 East\, Cottonwood Heights\, UT\, 84121
CATEGORIES:test session
END:VEVENT
END:VCALENDAR