BEGIN:VCALENDAR
VERSION:2.0
PRODID:-//IIA - ECPv5.8.0//NONSGML v1.0//EN
CALSCALE:GREGORIAN
METHOD:PUBLISH
X-WR-CALNAME:IIA
X-ORIGINAL-URL:http://intmntclub.org
X-WR-CALDESC:Events for IIA
BEGIN:VTIMEZONE
TZID:America/Denver
BEGIN:DAYLIGHT
TZOFFSETFROM:-0700
TZOFFSETTO:-0600
TZNAME:MDT
DTSTART:20140309T090000
END:DAYLIGHT
BEGIN:STANDARD
TZOFFSETFROM:-0600
TZOFFSETTO:-0700
TZNAME:MST
DTSTART:20141102T080000
END:STANDARD
END:VTIMEZONE
BEGIN:VEVENT
DTSTART;TZID=America/Denver:20141213T190000
DTEND;TZID=America/Denver:20141213T210000
DTSTAMP:20260422T014556
CREATED:20141119T190044Z
LAST-MODIFIED:20141120T023159Z
UID:249-1418497200-1418504400@intmntclub.org
SUMMARY:Christmas Extravaganza - Utah Figure Skating Club
DESCRIPTION:
URL:http://intmntclub.org/event/christmas-extravaganza-utah-figure-skating-club/
LOCATION:South Davis Recreation Center (Bountiful)\, 550 North 200 West\, Bountiful\, UT\, 84010
CATEGORIES:show
END:VEVENT
END:VCALENDAR