BEGIN:VCALENDAR
VERSION:2.0
PRODID:-//IIA - ECPv5.8.0//NONSGML v1.0//EN
CALSCALE:GREGORIAN
METHOD:PUBLISH
X-WR-CALNAME:IIA
X-ORIGINAL-URL:http://intmntclub.org
X-WR-CALDESC:Events for IIA
BEGIN:VTIMEZONE
TZID:America/Denver
BEGIN:DAYLIGHT
TZOFFSETFROM:-0700
TZOFFSETTO:-0600
TZNAME:MDT
DTSTART:20170312T090000
END:DAYLIGHT
BEGIN:STANDARD
TZOFFSETFROM:-0600
TZOFFSETTO:-0700
TZNAME:MST
DTSTART:20171105T080000
END:STANDARD
END:VTIMEZONE
BEGIN:VEVENT
DTSTART;VALUE=DATE:20170817
DTEND;VALUE=DATE:20170820
DTSTAMP:20260422T012827
CREATED:20160707T011037Z
LAST-MODIFIED:20170202T214007Z
UID:835-1502928000-1503187199@intmntclub.org
SUMMARY:2017 Copper Cup
DESCRIPTION:
URL:http://intmntclub.org/event/copper-cup-2017/
LOCATION:South Davis Recreation Center (Bountiful)\, 550 North 200 West\, Bountiful\, UT\, 84010
CATEGORIES:competition
END:VEVENT
END:VCALENDAR