BEGIN:VCALENDAR
VERSION:2.0
PRODID:-//IIA - ECPv5.8.0//NONSGML v1.0//EN
CALSCALE:GREGORIAN
METHOD:PUBLISH
X-WR-CALNAME:IIA
X-ORIGINAL-URL:http://intmntclub.org
X-WR-CALDESC:Events for IIA
BEGIN:VTIMEZONE
TZID:America/Boise
BEGIN:DAYLIGHT
TZOFFSETFROM:-0700
TZOFFSETTO:-0600
TZNAME:MDT
DTSTART:20190310T090000
END:DAYLIGHT
BEGIN:STANDARD
TZOFFSETFROM:-0600
TZOFFSETTO:-0700
TZNAME:MST
DTSTART:20191103T080000
END:STANDARD
END:VTIMEZONE
BEGIN:VEVENT
DTSTART;VALUE=DATE:20190412
DTEND;VALUE=DATE:20190414
DTSTAMP:20260421T123601
CREATED:20190228T030345Z
LAST-MODIFIED:20190228T030345Z
UID:1693-1555027200-1555199999@intmntclub.org
SUMMARY:CPFSC Spring Show
DESCRIPTION:
URL:http://intmntclub.org/event/cpfsc-spring-show/
LOCATION:Acord Ice Arena (West Valley City)\, 5353 West 3100 South\, West Valley City\, UT\, 84119
CATEGORIES:show
END:VEVENT
END:VCALENDAR