BEGIN:VCALENDAR
VERSION:2.0
PRODID:-//IIA - ECPv5.8.0//NONSGML v1.0//EN
CALSCALE:GREGORIAN
METHOD:PUBLISH
X-WR-CALNAME:IIA
X-ORIGINAL-URL:http://intmntclub.org
X-WR-CALDESC:Events for IIA
BEGIN:VTIMEZONE
TZID:America/Boise
BEGIN:DAYLIGHT
TZOFFSETFROM:-0700
TZOFFSETTO:-0600
TZNAME:MDT
DTSTART:20180311T090000
END:DAYLIGHT
BEGIN:STANDARD
TZOFFSETFROM:-0600
TZOFFSETTO:-0700
TZNAME:MST
DTSTART:20181104T080000
END:STANDARD
END:VTIMEZONE
BEGIN:VEVENT
DTSTART;TZID=America/Boise:20180420T190000
DTEND;TZID=America/Boise:20180420T203000
DTSTAMP:20260422T050253
CREATED:20180503T015358Z
LAST-MODIFIED:20180503T015358Z
UID:1461-1524250800-1524256200@intmntclub.org
SUMMARY:Greatest Show on Ice - SLFS
DESCRIPTION:
URL:http://intmntclub.org/event/greatest-show-on-ice-slfs/
LOCATION:SLC Sports Complex
CATEGORIES:show
END:VEVENT
END:VCALENDAR