BEGIN:VCALENDAR
VERSION:2.0
PRODID:-//IIA - ECPv5.8.0//NONSGML v1.0//EN
CALSCALE:GREGORIAN
METHOD:PUBLISH
X-WR-CALNAME:IIA
X-ORIGINAL-URL:http://intmntclub.org
X-WR-CALDESC:Events for IIA
BEGIN:VTIMEZONE
TZID:America/Denver
BEGIN:DAYLIGHT
TZOFFSETFROM:-0700
TZOFFSETTO:-0600
TZNAME:MDT
DTSTART:20150308T090000
END:DAYLIGHT
BEGIN:STANDARD
TZOFFSETFROM:-0600
TZOFFSETTO:-0700
TZNAME:MST
DTSTART:20151101T080000
END:STANDARD
END:VTIMEZONE
BEGIN:VEVENT
DTSTART;VALUE=DATE:20151024
DTEND;VALUE=DATE:20151025
DTSTAMP:20260422T050234
CREATED:20150819T181119Z
LAST-MODIFIED:20150819T181119Z
UID:637-1445644800-1445731199@intmntclub.org
SUMMARY:Halloween Show-WFSC
DESCRIPTION:
URL:http://intmntclub.org/event/halloween-show-wfsc/
LOCATION:Weber County Ice Sheet (Ogden)\, 4390 Harrison Blvd\, Ogden\, UT\, 84403
CATEGORIES:show
END:VEVENT
END:VCALENDAR