BEGIN:VCALENDAR
VERSION:2.0
PRODID:-//IIA - ECPv5.8.0//NONSGML v1.0//EN
CALSCALE:GREGORIAN
METHOD:PUBLISH
X-WR-CALNAME:IIA
X-ORIGINAL-URL:http://intmntclub.org
X-WR-CALDESC:Events for IIA
BEGIN:VTIMEZONE
TZID:America/Denver
BEGIN:DAYLIGHT
TZOFFSETFROM:-0700
TZOFFSETTO:-0600
TZNAME:MDT
DTSTART:20150308T090000
END:DAYLIGHT
BEGIN:STANDARD
TZOFFSETFROM:-0600
TZOFFSETTO:-0700
TZNAME:MST
DTSTART:20151101T080000
END:STANDARD
END:VTIMEZONE
BEGIN:VEVENT
DTSTART;VALUE=DATE:20150615
DTEND;VALUE=DATE:20150618
DTSTAMP:20260422T051307
CREATED:20150430T011136Z
LAST-MODIFIED:20150430T011302Z
UID:572-1434326400-1434585599@intmntclub.org
SUMMARY:Las Vegas FSC Skate Camp
DESCRIPTION:
URL:http://intmntclub.org/event/las-vegas-fsc-skate-camp/
LOCATION:SoBe Ice Arena at Fiesta Rancho Casino/Hotel (N. Las Vegas)\, 2400 N Rancho Drive\, North Las Vegas\, NV\, 89130
CATEGORIES:skating camp
END:VEVENT
END:VCALENDAR