BEGIN:VCALENDAR
VERSION:2.0
PRODID:-//IIA - ECPv5.8.0//NONSGML v1.0//EN
CALSCALE:GREGORIAN
METHOD:PUBLISH
X-WR-CALNAME:IIA
X-ORIGINAL-URL:http://intmntclub.org
X-WR-CALDESC:Events for IIA
BEGIN:VTIMEZONE
TZID:America/Denver
BEGIN:DAYLIGHT
TZOFFSETFROM:-0700
TZOFFSETTO:-0600
TZNAME:MDT
DTSTART:20150308T090000
END:DAYLIGHT
BEGIN:STANDARD
TZOFFSETFROM:-0600
TZOFFSETTO:-0700
TZNAME:MST
DTSTART:20151101T080000
END:STANDARD
END:VTIMEZONE
BEGIN:VEVENT
DTSTART;VALUE=DATE:20150516
DTEND;VALUE=DATE:20150518
DTSTAMP:20260422T002130
CREATED:20141126T122410Z
LAST-MODIFIED:20150428T022458Z
UID:274-1431734400-1431907199@intmntclub.org
SUMMARY:MSBFSC Test Session
DESCRIPTION:Registration Open: April 4\, 2015 @ 8:00 a.m. \nRegistration Deadline: April 25\, 2015 @ 12:00 a.m. \nSunday May 17 will be overflow if needed.
URL:http://intmntclub.org/event/msbfsc-test-session-2/
CATEGORIES:test session
END:VEVENT
END:VCALENDAR