BEGIN:VCALENDAR
VERSION:2.0
PRODID:-//IIA - ECPv5.8.0//NONSGML v1.0//EN
CALSCALE:GREGORIAN
METHOD:PUBLISH
X-WR-CALNAME:IIA
X-ORIGINAL-URL:http://intmntclub.org
X-WR-CALDESC:Events for IIA
BEGIN:VTIMEZONE
TZID:America/Boise
BEGIN:DAYLIGHT
TZOFFSETFROM:-0700
TZOFFSETTO:-0600
TZNAME:MDT
DTSTART:20250309T090000
END:DAYLIGHT
BEGIN:STANDARD
TZOFFSETFROM:-0600
TZOFFSETTO:-0700
TZNAME:MST
DTSTART:20251102T080000
END:STANDARD
END:VTIMEZONE
BEGIN:VEVENT
DTSTART;VALUE=DATE:20250520
DTEND;VALUE=DATE:20250521
DTSTAMP:20260425T142814
CREATED:20250205T023845Z
LAST-MODIFIED:20250205T024134Z
UID:2683-1747699200-1747785599@intmntclub.org
SUMMARY:MSBFSC test sessions
DESCRIPTION:
URL:http://intmntclub.org/event/msbfsc-test-sessions/
LOCATION:County Ice Center (Murray)\, 5201 South Murray Park Lane (150 E)\, Murray\, UT\, 84107
CATEGORIES:test session
END:VEVENT
END:VCALENDAR