BEGIN:VCALENDAR
VERSION:2.0
PRODID:-//IIA - ECPv5.8.0//NONSGML v1.0//EN
CALSCALE:GREGORIAN
METHOD:PUBLISH
X-WR-CALNAME:IIA
X-ORIGINAL-URL:http://intmntclub.org
X-WR-CALDESC:Events for IIA
BEGIN:VTIMEZONE
TZID:America/Boise
BEGIN:DAYLIGHT
TZOFFSETFROM:-0700
TZOFFSETTO:-0600
TZNAME:MDT
DTSTART:20180311T090000
END:DAYLIGHT
BEGIN:STANDARD
TZOFFSETFROM:-0600
TZOFFSETTO:-0700
TZNAME:MST
DTSTART:20181104T080000
END:STANDARD
END:VTIMEZONE
BEGIN:VEVENT
DTSTART;TZID=America/Boise:20181019T183000
DTEND;TZID=America/Boise:20181019T203000
DTSTAMP:20260422T003610
CREATED:20180712T010903Z
LAST-MODIFIED:20180712T011104Z
UID:1497-1539973800-1539981000@intmntclub.org
SUMMARY:Oval FSC Halloween Exhibition
DESCRIPTION:
URL:http://intmntclub.org/event/oval-fsc-halloween-exhibition/
LOCATION:Utah Olympic Oval (Kearns)\, 5662 Cougar Ln\, Kearns\, UT\, 84118
ORGANIZER;CN="Oval%20FSC":MAILTO:ovalfsc@gmail.com
END:VEVENT
END:VCALENDAR