BEGIN:VCALENDAR
VERSION:2.0
PRODID:-//IIA - ECPv5.8.0//NONSGML v1.0//EN
CALSCALE:GREGORIAN
METHOD:PUBLISH
X-WR-CALNAME:IIA
X-ORIGINAL-URL:http://intmntclub.org
X-WR-CALDESC:Events for IIA
BEGIN:VTIMEZONE
TZID:America/Boise
BEGIN:DAYLIGHT
TZOFFSETFROM:-0700
TZOFFSETTO:-0600
TZNAME:MDT
DTSTART:20260308T090000
END:DAYLIGHT
BEGIN:STANDARD
TZOFFSETFROM:-0600
TZOFFSETTO:-0700
TZNAME:MST
DTSTART:20261101T080000
END:STANDARD
END:VTIMEZONE
BEGIN:VEVENT
DTSTART;TZID=America/Boise:20260326T080000
DTEND;TZID=America/Boise:20260329T170000
DTSTAMP:20260422T015526
CREATED:20250402T014023Z
LAST-MODIFIED:20250402T014023Z
UID:2706-1774512000-1774803600@intmntclub.org
SUMMARY:OVAL HIGH ALTITUDE CHALLENGE
DESCRIPTION:
URL:http://intmntclub.org/event/oval-high-altitude-challenge/
LOCATION:Utah Olympic Oval (Kearns)\, 5662 Cougar Ln\, Kearns\, UT\, 84118
CATEGORIES:competition,test session
ORGANIZER;CN="Oval%20FSC":MAILTO:ovalfsc@gmail.com
END:VEVENT
END:VCALENDAR