BEGIN:VCALENDAR
VERSION:2.0
PRODID:-//IIA - ECPv5.8.0//NONSGML v1.0//EN
CALSCALE:GREGORIAN
METHOD:PUBLISH
X-WR-CALNAME:IIA
X-ORIGINAL-URL:http://intmntclub.org
X-WR-CALDESC:Events for IIA
BEGIN:VTIMEZONE
TZID:America/Denver
BEGIN:DAYLIGHT
TZOFFSETFROM:-0700
TZOFFSETTO:-0600
TZNAME:MDT
DTSTART:20170312T090000
END:DAYLIGHT
BEGIN:STANDARD
TZOFFSETFROM:-0600
TZOFFSETTO:-0700
TZNAME:MST
DTSTART:20171105T080000
END:STANDARD
END:VTIMEZONE
BEGIN:VEVENT
DTSTART;TZID=America/Denver:20170506T180000
DTEND;TZID=America/Denver:20170506T200000
DTSTAMP:20260422T012622
CREATED:20170308T231656Z
LAST-MODIFIED:20170912T140538Z
UID:1207-1494093600-1494100800@intmntclub.org
SUMMARY:PeaksFSC Skate for Cancer
DESCRIPTION:Skate for Cancer 2017: \nSkaters must have approval from their coach to sign-up (out-of-club coaches may request the signup link by contacting peaksfsc@gmail.com). Skaters can even do a group number if preferred. Signing up includes a shirt and other goodies. Cost: $25.00 \nSkate for Cancer partners with Millie’s Princess foundation to help a child and other loved ones in their fight against cancer. Our show is FREE to attend and we will even have FREE skating following the performances. Lots of food and fun and prizes! We always have the best giveaways for those donating to our cause. Please come and help those in need and enjoy some free skating!
URL:http://intmntclub.org/event/peaksfsc-skate-for-cancer-2017/
LOCATION:Peaks Ice Arena (Provo)\, 100 N Seven Peaks Blvd\, Provo\, UT\, 84606
CATEGORIES:show
END:VEVENT
END:VCALENDAR