BEGIN:VCALENDAR
VERSION:2.0
PRODID:-//IIA - ECPv5.8.0//NONSGML v1.0//EN
CALSCALE:GREGORIAN
METHOD:PUBLISH
X-WR-CALNAME:IIA
X-ORIGINAL-URL:http://intmntclub.org
X-WR-CALDESC:Events for IIA
BEGIN:VTIMEZONE
TZID:America/Denver
BEGIN:DAYLIGHT
TZOFFSETFROM:-0700
TZOFFSETTO:-0600
TZNAME:MDT
DTSTART:20160313T090000
END:DAYLIGHT
BEGIN:STANDARD
TZOFFSETFROM:-0600
TZOFFSETTO:-0700
TZNAME:MST
DTSTART:20161106T080000
END:STANDARD
END:VTIMEZONE
BEGIN:VEVENT
DTSTART;TZID=America/Denver:20161022T090000
DTEND;TZID=America/Denver:20161022T130000
DTSTAMP:20260422T033246
CREATED:20160831T015535Z
LAST-MODIFIED:20160831T015606Z
UID:882-1477126800-1477141200@intmntclub.org
SUMMARY:Prospective Judge Training Session
DESCRIPTION:Download the PDF file .
URL:http://intmntclub.org/event/prospective-judge-training-session/
LOCATION:Utah Olympic Oval (Kearns)\, 5662 Cougar Ln\, Kearns\, UT\, 84118
CATEGORIES:special event
ORGANIZER;CN="Oval%20FSC":MAILTO:ovalfsc@gmail.com
END:VEVENT
END:VCALENDAR