BEGIN:VCALENDAR
VERSION:2.0
PRODID:-//IIA - ECPv5.8.0//NONSGML v1.0//EN
CALSCALE:GREGORIAN
METHOD:PUBLISH
X-WR-CALNAME:IIA
X-ORIGINAL-URL:http://intmntclub.org
X-WR-CALDESC:Events for IIA
BEGIN:VTIMEZONE
TZID:America/Boise
BEGIN:DAYLIGHT
TZOFFSETFROM:-0700
TZOFFSETTO:-0600
TZNAME:MDT
DTSTART:20190310T090000
END:DAYLIGHT
BEGIN:STANDARD
TZOFFSETFROM:-0600
TZOFFSETTO:-0700
TZNAME:MST
DTSTART:20191103T080000
END:STANDARD
END:VTIMEZONE
BEGIN:VEVENT
DTSTART;VALUE=DATE:20190412
DTEND;VALUE=DATE:20190415
DTSTAMP:20260421T140312
CREATED:20181005T024807Z
LAST-MODIFIED:20181108T033249Z
UID:1598-1555027200-1555286399@intmntclub.org
SUMMARY:Reach for the Peaks Competition & Test session
DESCRIPTION:
URL:http://intmntclub.org/event/reach-for-the-peaks-basic-skills-competition-test-session/
LOCATION:Peaks Ice Arena (Provo)\, 100 N Seven Peaks Blvd\, Provo\, UT\, 84606
CATEGORIES:competition,test session
END:VEVENT
END:VCALENDAR