BEGIN:VCALENDAR
VERSION:2.0
PRODID:-//IIA - ECPv5.8.0//NONSGML v1.0//EN
CALSCALE:GREGORIAN
METHOD:PUBLISH
X-WR-CALNAME:IIA
X-ORIGINAL-URL:http://intmntclub.org
X-WR-CALDESC:Events for IIA
BEGIN:VTIMEZONE
TZID:America/Boise
BEGIN:DAYLIGHT
TZOFFSETFROM:-0700
TZOFFSETTO:-0600
TZNAME:MDT
DTSTART:20250309T090000
END:DAYLIGHT
BEGIN:STANDARD
TZOFFSETFROM:-0600
TZOFFSETTO:-0700
TZNAME:MST
DTSTART:20251102T080000
END:STANDARD
END:VTIMEZONE
BEGIN:VEVENT
DTSTART;VALUE=DATE:20250517
DTEND;VALUE=DATE:20250518
DTSTAMP:20260425T124158
CREATED:20250402T014540Z
LAST-MODIFIED:20250402T014540Z
UID:2714-1747440000-1747526399@intmntclub.org
SUMMARY:SKATE FOR CANCER PROVO
DESCRIPTION:
URL:http://intmntclub.org/event/skate-for-cancer-provo/
LOCATION:Peaks Ice Arena (Provo)\, 100 N Seven Peaks Blvd\, Provo\, UT\, 84606
CATEGORIES:show
END:VEVENT
END:VCALENDAR