BEGIN:VCALENDAR
VERSION:2.0
PRODID:-//IIA - ECPv5.8.0//NONSGML v1.0//EN
CALSCALE:GREGORIAN
METHOD:PUBLISH
X-WR-CALNAME:IIA
X-ORIGINAL-URL:http://intmntclub.org
X-WR-CALDESC:Events for IIA
BEGIN:VTIMEZONE
TZID:America/Boise
BEGIN:DAYLIGHT
TZOFFSETFROM:-0700
TZOFFSETTO:-0600
TZNAME:MDT
DTSTART:20240310T090000
END:DAYLIGHT
BEGIN:STANDARD
TZOFFSETFROM:-0600
TZOFFSETTO:-0700
TZNAME:MST
DTSTART:20241103T080000
END:STANDARD
END:VTIMEZONE
BEGIN:VEVENT
DTSTART;VALUE=DATE:20241220
DTEND;VALUE=DATE:20241222
DTSTAMP:20260425T092238
CREATED:20240807T021522Z
LAST-MODIFIED:20240807T021522Z
UID:2653-1734652800-1734825599@intmntclub.org
SUMMARY:SLFS Holiday Show
DESCRIPTION:
URL:http://intmntclub.org/event/slfs-holiday-show-2/
LOCATION:SLC Sports Complex
CATEGORIES:show
END:VEVENT
END:VCALENDAR