BEGIN:VCALENDAR
VERSION:2.0
PRODID:-//IIA - ECPv5.8.0//NONSGML v1.0//EN
CALSCALE:GREGORIAN
METHOD:PUBLISH
X-WR-CALNAME:IIA
X-ORIGINAL-URL:http://intmntclub.org
X-WR-CALDESC:Events for IIA
BEGIN:VTIMEZONE
TZID:America/Boise
BEGIN:DAYLIGHT
TZOFFSETFROM:-0700
TZOFFSETTO:-0600
TZNAME:MDT
DTSTART:20250309T090000
END:DAYLIGHT
BEGIN:STANDARD
TZOFFSETFROM:-0600
TZOFFSETTO:-0700
TZNAME:MST
DTSTART:20251102T080000
END:STANDARD
END:VTIMEZONE
BEGIN:VEVENT
DTSTART;VALUE=DATE:20250425
DTEND;VALUE=DATE:20250427
DTSTAMP:20260425T074352
CREATED:20250402T014452Z
LAST-MODIFIED:20250402T014452Z
UID:2712-1745539200-1745711999@intmntclub.org
SUMMARY:SLFS/OFSC SPRING SHOW
DESCRIPTION:
URL:http://intmntclub.org/event/slfs-ofsc-spring-show/
LOCATION:Salt Lake City Sports Complex\, 645 South Guardsman Way\, Salt Lake City\, UT\, 84115
CATEGORIES:show
END:VEVENT
END:VCALENDAR