BEGIN:VCALENDAR
VERSION:2.0
PRODID:-//IIA - ECPv5.8.0//NONSGML v1.0//EN
CALSCALE:GREGORIAN
METHOD:PUBLISH
X-WR-CALNAME:IIA
X-ORIGINAL-URL:http://intmntclub.org
X-WR-CALDESC:Events for IIA
BEGIN:VTIMEZONE
TZID:America/Denver
BEGIN:DAYLIGHT
TZOFFSETFROM:-0700
TZOFFSETTO:-0600
TZNAME:MDT
DTSTART:20150308T090000
END:DAYLIGHT
BEGIN:STANDARD
TZOFFSETFROM:-0600
TZOFFSETTO:-0700
TZNAME:MST
DTSTART:20151101T080000
END:STANDARD
END:VTIMEZONE
BEGIN:VEVENT
DTSTART;VALUE=DATE:20150320
DTEND;VALUE=DATE:20150321
DTSTAMP:20260421T225443
CREATED:20150203T174245Z
LAST-MODIFIED:20150203T175930Z
UID:490-1426809600-1426895999@intmntclub.org
SUMMARY:2015 Test Session SCJH
DESCRIPTION:Registration open: Feb 6-Feb27
URL:http://intmntclub.org/event/test-session-jackson-hole-invitational/
LOCATION:Snow King SEC Ice Rink (Jackson)\, 100 E. Snow King Ave.\, Jackson\, WY\, 83001
CATEGORIES:test session
END:VEVENT
END:VCALENDAR