BEGIN:VCALENDAR
VERSION:2.0
PRODID:-//IIA - ECPv5.8.0//NONSGML v1.0//EN
CALSCALE:GREGORIAN
METHOD:PUBLISH
X-WR-CALNAME:IIA
X-ORIGINAL-URL:http://intmntclub.org
X-WR-CALDESC:Events for IIA
BEGIN:VTIMEZONE
TZID:America/Denver
BEGIN:DAYLIGHT
TZOFFSETFROM:-0700
TZOFFSETTO:-0600
TZNAME:MDT
DTSTART:20150308T090000
END:DAYLIGHT
BEGIN:STANDARD
TZOFFSETFROM:-0600
TZOFFSETTO:-0700
TZNAME:MST
DTSTART:20151101T080000
END:STANDARD
END:VTIMEZONE
BEGIN:VEVENT
DTSTART;TZID=America/Denver:20151204T190000
DTEND;TZID=America/Denver:20151204T210000
DTSTAMP:20260422T050230
CREATED:20151231T191846Z
LAST-MODIFIED:20151231T192036Z
UID:660-1449255600-1449262800@intmntclub.org
SUMMARY:Utah Olympic Oval Christmas Show
DESCRIPTION:The Utah Olympic Oval and Oval Figure Skating Club’s annual figure skating show on Friday December 4th and 5th at 7:00 p.m.
URL:http://intmntclub.org/event/uoo-christmas-show-2/
LOCATION:Utah Olympic Oval (Kearns)\, 5662 Cougar Ln\, Kearns\, UT\, 84118
CATEGORIES:show
ORGANIZER;CN="Oval%20FSC":MAILTO:ovalfsc@gmail.com
END:VEVENT
END:VCALENDAR