BEGIN:VCALENDAR
VERSION:2.0
PRODID:-//IIA - ECPv5.8.0//NONSGML v1.0//EN
CALSCALE:GREGORIAN
METHOD:PUBLISH
X-WR-CALNAME:IIA
X-ORIGINAL-URL:http://intmntclub.org
X-WR-CALDESC:Events for IIA
BEGIN:VTIMEZONE
TZID:America/Denver
BEGIN:DAYLIGHT
TZOFFSETFROM:-0700
TZOFFSETTO:-0600
TZNAME:MDT
DTSTART:20170312T090000
END:DAYLIGHT
BEGIN:STANDARD
TZOFFSETFROM:-0600
TZOFFSETTO:-0700
TZNAME:MST
DTSTART:20171105T080000
END:STANDARD
END:VTIMEZONE
BEGIN:VEVENT
DTSTART;TZID=America/Denver:20170311T083000
DTEND;TZID=America/Denver:20170311T163000
DTSTAMP:20260422T134815
CREATED:20170110T202730Z
LAST-MODIFIED:20170120T042134Z
UID:1145-1489221000-1489249800@intmntclub.org
SUMMARY:USFS Club Education Seminar in Ogden - March 11th
DESCRIPTION:Dear U.S. Figure Skating Club Officers and Board Members\, \nPlease join us for the upcoming Club Education Seminar on Saturday\, March 11th at 8:30 – 4:30 p.m. at the Ice Sheet in Ogden. We will be discussing the day-to-day operations and business related topics of running a successful and financially viable figure skating club. Whether your club has been around for years or it has just been formed\, you are the foundation of our sport and the essential link to the success of your members. This seminar is open to all current and prospective board members\, skating directors\, coaches and rink management staff – everyone that serves in a leadership position. \nThe fee is $75 per person or a maximum of $250 per board of four or more members. This seminar will be co-hosted with the Intermountain Interclub Association. Member clubs of Intermountain Interclub Association will receive a $75 reimbursement if two or more board members attend. The fee includes all materials and lunch. You must pre-register if planning to attend. Deadline to register is March 5th. \nMeeting location:\nThe Ice Sheet at Ogden\, 4390 Harrison Blvd.\, Ogden\, Utah\, 84403 \n  \nLocal host is Erika Roberts\, Skating Academy Director at Park City Ice Arena eroberts@parkcity.org \nTopics discussed during the day will include:\n• Solid governance practices to keep the club strong\n• How to recruit\, retain and reward club volunteers\n• Dealing with difficult situations that may arise\n• Club self-assessment tool – Checklist for Success\n• U.S. Figure Skating SafeSport Program – ways to implement and enforce\n• Financial management and fundraising practices\n• Skating programs to help grow and retain members in your club \nTo register\, please go to https://fs12.formsite.com/USFSAIT/form1030/index.html \nHere are a few testimonials from a recent seminar:\n“Being a new board member this provided much needed information on how to run a successful club.”\n“Wish I’d had this earlier- very valuable after being on the board for a year and realizing what we could do differently”\n“Absolutely out of this world!” \nWe hope to see you in Salt Lake City in March! \n-Susi \nSusi Wehrli McLaughlin\nSenior Director of Membership\nU.S. Figure Skating\nswehrli@usfigureskating.org\n719-635-5200 ext. 423
URL:http://intmntclub.org/event/usfs-club-education-seminar-in-ogden-march-11th/
LOCATION:Weber County Ice Sheet (Ogden)\, 4390 Harrison Blvd\, Ogden\, UT\, 84403
CATEGORIES:meeting
END:VEVENT
END:VCALENDAR